BEGIN:VCALENDAR
VERSION:2.0
PRODID:-//wp-events-plugin.com//7.2.3.1//EN
TZID:Europe/Berlin
X-WR-TIMEZONE:Europe/Berlin
BEGIN:VEVENT
UID:110@parks-nuernberg.de
DTSTART;TZID=Europe/Berlin:20251206T220000
DTEND;TZID=Europe/Berlin:20251207T040000
DTSTAMP:20251107T143346Z
URL:https://www.parks-nuernberg.de/events/retro-die-grosse-ue30-party-im-p
 arks-2/
SUMMARY:Retro - Die große Ü30 Party im PARKS
DESCRIPTION:\n 	Eintritt: 10€\n 	Saal: 80er bis heute mit Marc Wirtz\n 	B
 ar: Best of House mit DJ Werner\n 	3. Area: Old School Hip Hop &amp\; R'n'
 B mit DJ Black Ize\n 	Tickets\n\n
ATTACH;FMTTYPE=image/jpeg:https://www.parks-nuernberg.de/wp-content/upload
 s/2022/08/Retro-Fb-Titel.jpg
CATEGORIES:Party,Party und Tanz
LOCATION:PARKS Nürnberg\, Berliner Platz 9 \, Nürnberg\, Deutschland
X-APPLE-STRUCTURED-LOCATION;VALUE=URI;X-ADDRESS=Berliner Platz 9 \, Nürnbe
 rg\, Deutschland;X-APPLE-RADIUS=100;X-TITLE=PARKS Nürnberg:geo:0,0
END:VEVENT
BEGIN:VTIMEZONE
TZID:Europe/Berlin
X-LIC-LOCATION:Europe/Berlin
BEGIN:STANDARD
DTSTART:20251026T020000
TZOFFSETFROM:+0200
TZOFFSETTO:+0100
TZNAME:CET
END:STANDARD
END:VTIMEZONE
END:VCALENDAR