BEGIN:VCALENDAR
VERSION:2.0
PRODID:-//wp-events-plugin.com//7.2.3.1//EN
TZID:Europe/Berlin
X-WR-TIMEZONE:Europe/Berlin
BEGIN:VEVENT
UID:37@parks-nuernberg.de
DTSTART;TZID=Europe/Berlin:20251114T180000
DTEND;TZID=Europe/Berlin:20251114T230000
DTSTAMP:20251023T161038Z
URL:https://www.parks-nuernberg.de/events/nuernberg-nightmarket-96/
SUMMARY:Nürnberg Nightmarket #96
DESCRIPTION:NÜRNBERG NIGHTMARKET #96\n\n\n 	Beginn: 18.00 Uhr\n 	Ende: 23.
 00 Uhr\n 	Eintritt: 2 €\n 	Live DJ Sets\n 	Original Thai Streetfood\n 	S
 weets\n\nNachtflohmarkt | DJ | Thai Streetfoood\n\nFern ab von jeglichem A
 llerweltsambiente werden auf 1000 Quadratmeter persönliche Schätze gehan
 delt und getauscht. Im gesamten Innenbereich des PARKS Nürnberg heißt es
  schlendern\, stöbern und entdecken. Ab 18 Uhr wartet eine vielfältige A
 uswahl alter Lieblingsstücke und Unikate unzähliger Händler auf ihre ne
 uen Besitzerinnen. Kleidung\, Schuhe\, Taschen\, Schmuck\, bis hin zu Foto
 apparaten\, Einrichtungsgegenstände und Wohnaccessoires können hier best
 aunt und ergattert werden.\n\nFür die kulinarische Verstärkung zwischend
 urch gibt es Thai Streetfood im Gartensaal. An zwei Bars laden wir zu eine
 r wechselnden Auswahl der Lieblingsgetränke des Agentur Zeitvertreib Team
 s ein.  An den Decks sorgen talentierte DJ-Round Ups für die passende mu
 sikalische Untermalung.\n\nBesucher*innen brauchen kein Ticket vorab. Der 
 Eintritt in Höhe von 2€ wird vor Ort am Eingang bezahlt.\n\n 	 weitere
  Infos:\n\n+ Anmeldung für Verkäufer &amp\; Verkäuferinnen über Agentu
 r Zeitvertreib: www.agentur-zeitvertreib.com\n+ Fragen zur Anmeldung\, etc
 . an info@agenturzeitvertreib.com\n+ Kinder bis 12 Jahre Eintritt frei\n+ 
 Öffentliche Verkehrsmittel:\nUbahn: U2// Station Rennweg\nU3// Station Ma
 xfeld\nNightliner: Stadtbus N1// Station Stadtpark\n+ die Veranstaltung wi
 rd gefilmt &amp\; fotografiert\n+ Hunde dürfen an der Leine mitgebracht w
 erden\n+ Das Mitbringen von Getränken ist nicht gestattet. Mitgebrachte F
 laschen können am Einlass hinterlegt werden. Getränkeflaschen für Babys
  und Kleinkinder dürfen in der Location mitgeführt werden.\n\n\n\n.event
 button {\n  display: none !important\;\n}\n\n
ATTACH;FMTTYPE=image/jpeg:https://www.parks-nuernberg.de/wp-content/upload
 s/2024/12/PARKS_event_nm2025.jpg
CATEGORIES:Flohmarkt
LOCATION:PARKS Nürnberg\, Berliner Platz 9 \, Nürnberg\, Deutschland
X-APPLE-STRUCTURED-LOCATION;VALUE=URI;X-ADDRESS=Berliner Platz 9 \, Nürnbe
 rg\, Deutschland;X-APPLE-RADIUS=100;X-TITLE=PARKS Nürnberg:geo:0,0
END:VEVENT
BEGIN:VTIMEZONE
TZID:Europe/Berlin
X-LIC-LOCATION:Europe/Berlin
BEGIN:STANDARD
DTSTART:20251026T020000
TZOFFSETFROM:+0200
TZOFFSETTO:+0100
TZNAME:CET
END:STANDARD
END:VTIMEZONE
END:VCALENDAR