BEGIN:VCALENDAR
VERSION:2.0
PRODID:-//wp-events-plugin.com//7.2.3.1//EN
TZID:Europe/Berlin
X-WR-TIMEZONE:Europe/Berlin
BEGIN:VEVENT
UID:77@parks-nuernberg.de
DTSTART;TZID=Europe/Berlin:20250921T120000
DTEND;TZID=Europe/Berlin:20250921T180000
DTSTAMP:20250918T132857Z
URL:https://www.parks-nuernberg.de/events/heiraterei-das-hochzeitsevent-im
 -parks/
SUMMARY:Heiraterei - Das Hochzeitsevent im PARKS
DESCRIPTION:Bis zum „Ja-Wort“ braucht es eine ganze Menge Planung und O
 rganisation. Die Heiraterei ist die perfekte Gelegenheit\, um sich die ein
 drucksvollen Hochzeitssäle im PARKS im Stadtpark Nürnberg anzusehen und 
 sich bei Hochzeitsspezialisten über hilfreiche Tipps und aktuelle Trends 
 rund um den schönsten Tag im Leben zu informieren
ATTACH;FMTTYPE=image/jpeg:https://www.parks-nuernberg.de/wp-content/upload
 s/2025/07/banner_parks_web_heiraterei25-scaled-1-scaled.jpg
CATEGORIES:Gastronomie,Hochzeitsmesse,Messe,Mode,Romantik
LOCATION:PARKS Nürnberg\, Berliner Platz 9 \, Nürnberg\, Deutschland
X-APPLE-STRUCTURED-LOCATION;VALUE=URI;X-ADDRESS=Berliner Platz 9 \, Nürnbe
 rg\, Deutschland;X-APPLE-RADIUS=100;X-TITLE=PARKS Nürnberg:geo:0,0
END:VEVENT
BEGIN:VTIMEZONE
TZID:Europe/Berlin
X-LIC-LOCATION:Europe/Berlin
BEGIN:DAYLIGHT
DTSTART:20250330T030000
TZOFFSETFROM:+0100
TZOFFSETTO:+0200
TZNAME:CEST
END:DAYLIGHT
END:VTIMEZONE
END:VCALENDAR