BEGIN:VCALENDAR
VERSION:2.0
PRODID:-//wp-events-plugin.com//7.2.3.1//EN
TZID:Europe/Berlin
X-WR-TIMEZONE:Europe/Berlin
BEGIN:VEVENT
UID:65@parks-nuernberg.de
DTSTART;TZID=Europe/Berlin:20250808T200000
DTEND;TZID=Europe/Berlin:20250809T020000
DTSTAMP:20250429T180623Z
URL:https://www.parks-nuernberg.de/events/fiesta-latina/
SUMMARY:Fiesta Latina im PARKS
DESCRIPTION:Lupes Salsastudio präsentiert "Fiesta Latina" im PARKS!\n\n 	B
 eginn: 20.00 Uhr\n 	Ende: 2.00 Uhr\n 	Eintritt: VVK 16€ | AK 18€\n\nMa
 cht euch bereit für eine Sommernacht voller Rhythmus\, Leidenschaft &amp\
 ; Tanzfreude!\n\nHier schon mal das Wichtigste auf einen Blick:\n\n 	Works
 hop &amp\; Tanzanimation mit Lupes Salsastudio\n 	Liveband Latin4ever\n 	P
 arty an der Bar mit DJ Jorge\n\nWeitere Infos folgen bald!
ATTACH;FMTTYPE=image/jpeg:https://www.parks-nuernberg.de/wp-content/upload
 s/2025/04/PARKS_event_fiesta25.jpg
CATEGORIES:Konzert,Musik,Party und Tanz,Tanz
LOCATION:PARKS Nürnberg\, Berliner Platz 9 \, Nürnberg\, Deutschland
X-APPLE-STRUCTURED-LOCATION;VALUE=URI;X-ADDRESS=Berliner Platz 9 \, Nürnbe
 rg\, Deutschland;X-APPLE-RADIUS=100;X-TITLE=PARKS Nürnberg:geo:0,0
END:VEVENT
BEGIN:VTIMEZONE
TZID:Europe/Berlin
X-LIC-LOCATION:Europe/Berlin
BEGIN:DAYLIGHT
DTSTART:20250330T030000
TZOFFSETFROM:+0100
TZOFFSETTO:+0200
TZNAME:CEST
END:DAYLIGHT
END:VTIMEZONE
END:VCALENDAR