BEGIN:VCALENDAR
VERSION:2.0
PRODID:-//wp-events-plugin.com//7.2.3.1//EN
TZID:Europe/Berlin
X-WR-TIMEZONE:Europe/Berlin
BEGIN:VEVENT
UID:47@parks-nuernberg.de
DTSTART;TZID=Europe/Berlin:20250517T210000
DTEND;TZID=Europe/Berlin:20250518T030000
DTSTAMP:20260402T100432Z
URL:https://www.parks-nuernberg.de/events/esc-night-public-viewing-aftersh
 ow-party/
SUMMARY:ESC Night x STBG | Public Viewing & Aftershow Party
DESCRIPTION:Douze Points für ESC-Glamour!\nWenn im Mai Musik in der Luft l
 iegt und alle schon auf den Straßen ein Liedchen zwitschern ist wieder ES
 C-Saison!
ATTACH;FMTTYPE=image/jpeg:https://www.parks-nuernberg.de/wp-content/upload
 s/2025/04/PARKS_event_esc25.jpg
CATEGORIES:Party,Party und Tanz,Unterhaltung
LOCATION:PARKS Nürnberg\, Berliner Platz 9 \, Nürnberg\, Deutschland
X-APPLE-STRUCTURED-LOCATION;VALUE=URI;X-ADDRESS=Berliner Platz 9 \, Nürnbe
 rg\, Deutschland;X-APPLE-RADIUS=100;X-TITLE=PARKS Nürnberg:geo:0,0
END:VEVENT
BEGIN:VTIMEZONE
TZID:Europe/Berlin
X-LIC-LOCATION:Europe/Berlin
BEGIN:DAYLIGHT
DTSTART:20250330T030000
TZOFFSETFROM:+0100
TZOFFSETTO:+0200
TZNAME:CEST
END:DAYLIGHT
END:VTIMEZONE
END:VCALENDAR